BEGIN:VCALENDAR
VERSION:2.0
PRODID:-//gdp//event//DE
METHOD:PUBLISH
NAME:gdp
X-WR-CALNAME:gdp
BEGIN:VEVENT
UID:bacffd35-c246-42cb-b0f0-42baa90c2b6f
SEQUENCE:0
DTSTAMP:20260421T100232Z
DTSTART:20260528T160000Z
DTEND:20260528T190000Z
SUMMARY:Erste Hilfe am Kind im Polizeieinsatz
LOCATION:Polizeipräsidium Nordhessen (Kantinennebenraum) Grüner Weg 33\,
  34117 Kassel\, Deutschland
DESCRIPTION:Kassel Polizeipräsidium Nordhessen (Kantinennebenraum) Grüne
 r Weg 33 / In dieser praxisorientierten Schulung werden wir uns mit lebens
 rettenden Maßnahmen bei Kindern beschäftigen. Der Fokus liegt insbesond
 ere auf folgenden Themen:\n\nBlutstillung bei akuten Verletzungen\nMaßnah
 men bei Bewusstlosigkeit\nVorgehen bei Erstickungsnotfällen\nWiederbelebu
 ng (Reanimation) bei Kindern\n\n /   / Ziel der Fortbildung ist es\, euch
  Sicherheit im Umgang mit solchen Einsatzsituationen zu geben und die Hand
 lungskompetenz im Ernstfall zu stärken. / Hinweis: / Für GdP-Mitglieder 
 ist das Seminar kostenfrei / (Seminar & Verpflegung). Erste Hilfe am Kind 
 im Polizeieinsatz 34117
URL;VALUE=URI:https://gdp-prod.ext.neusta-hosting.de/hessen/de/seminare/20
 26/gdp-hessen-erste-hilfe-am-kind-im-polizeieinsatz
END:VEVENT
END:VCALENDAR