BEGIN:VCALENDAR
VERSION:2.0
PRODID:-//gdp//event//DE
METHOD:PUBLISH
NAME:gdp
X-WR-CALNAME:gdp
BEGIN:VEVENT
UID:50b4a2af-8472-407d-aeb5-2210bc5fd86c
SEQUENCE:0
DTSTAMP:20260419T145612Z
DTSTART:20260521T080000Z
DTEND:20260522T140000Z
SUMMARY:Frauenseminar für Beamtinnen
LOCATION:Landgasthof Bechtel Vor der Brücke 4\, 34628 Willingshausen-Zell
 a\, Deutschland
DESCRIPTION:Willingshausen-Zella Landgasthof Bechtel Vor der Brücke 4 / Z
 ielgruppe sind alle Polizeibeamtinnen\, die sich verändern - wollen - / A
 us den Themen:\n\nVeränderung\, Kommunikation\nFührung \nAustausch: Die
  richtigen Fragen und Antworten\nNetzwerken - Stärken stärken\nVersorgun
 gsrecht\n\n /  \n / Die Referentinnen sind Kolleginnen mit langjähriger 
 Berufserfahrung. / Hinweis:\n / Für GdP-Mitglieder ist das Seminar kosten
 frei / (Seminar\, Verpflegung und Übernachtung im Einzelzimmer). Frauense
 minar für Beamtinnen 34628
URL;VALUE=URI:https://gdp-prod.ext.neusta-hosting.de/hessen/de/seminare/20
 26/gdp-hessen-frauenseminar-der-gdp-hessen-2024
END:VEVENT
END:VCALENDAR