BEGIN:VCALENDAR
VERSION:2.0
PRODID:-//gdp//event//DE
METHOD:PUBLISH
NAME:gdp
X-WR-CALNAME:gdp
BEGIN:VEVENT
UID:d94f045f-7843-4e63-8f08-8ee6a1e3d5f3
SEQUENCE:0
DTSTAMP:20260421T095447Z
DTSTART:20260512T070000Z
DTEND:20260512T150000Z
SUMMARY:Erste Hilfe im Einsatzfall - Versorgung von Stich- und Schussverle
 tzungen - Grundseminar
LOCATION:Landgasthof Bechtel Vor der Brücke 4\, 34628 Willingshausen-Zell
 a\, Deutschland
DESCRIPTION:Willingshausen-Zella Landgasthof Bechtel Vor der Brücke 4 / D
 ieses Grundseminar verlässt die bekannte Erste Hilfe!\n / Bei einem näch
 tlichen Einsatz in der Kasseler Innenstadt werden bei einem Einsatz mit Sc
 husswaffengebrauch eine Kollegin und ein Kollege schwer verletzt. Der Tät
 er wurde erschossen. Der verletzte Kollege wurde so schwer an beiden Beine
 n verletzt\, dass er fast am Tatort verblutet wäre. Nur durch starkes Abd
 rücken der Arterie durch einen Kollegen mit den bloßen Händen konnte de
 r angeschossene Kollege überleben. Bislang sind wir im Streifendienst imm
 er davon ausgegangen\, dass wir schnell Hilfe durch den Rettungsdienst bek
 ommen\, wenn wir mal verletzt sein sollten. In Kassel hat sich gezeigt\, d
 ass die Rettungskräfte bei unklarer Lage eben nicht vorrücken und uns he
 lfen können oder dürfen. Wer hat sich im Streifendienst damit schon ause
 inander gesetzt? Wie sind unsere Interventionskräfte mit der neuen Schutz
 ausstattung vorbereitet? / Zusätzlich zu den bisher zur Verfügung stehen
 den Rettungsassistenten und Referenten sind nun auch 2 Notärzte im Team! 
 / Wichtig ist es\, große Blutungen durch Abdrücken bis zur Übergabe des
  verletzten Kollegen durch Abdrücken zu stoppen.\n / Das A-B-C-D-E Schema
  wird im Rahmen des Seminars vermittelt und in praktischen Übungen angewa
 ndt.\n / Dieses Seminar verlässt die bekannte Erste Hilfe!\n / Mit Mimen 
 einer DRK Notfalldarstellung und einem Komparsenteam werdet ihr nach dem t
 heoretischen Teil am Vormittag in verschiedenen Übungen unter "Ausschaltu
 ng des Störers" stark blutende Darsteller an Armen und Beinen verbinden m
 üssen. Das Kunstblut fließt aus den Wunden weiter\, bis die Blutung rich
 tig gestoppt wurde. \n / Die Teilnahme sollte in der Dienstkleidung bzw. 
 Ausstattung erfolgen\, in der auch real Dienst versehen wird. Da es zu lei
 chten Verschmutzungen kommen kann\, bitten wir euch eine alte Hose zu trag
 en\, die Verschmutzungen verträgt. Es muss keine Uniformhose sein. Ein pa
 ar Diensthemden haben wir auch vor Ort zur Verfügung. Zumindest der Gürt
 el sollte mit allem ausgestattet sein\, was ihr im Dienst auch mitführt.
  \n / Mit Ausnahme von Schusswaffen und Pfefferspray!!! \n / Übungswaff
 en werden gestellt.\n / Für die Veranstaltung besteht kein dienstlicher U
 nfallschutz.\n /  / Hinweis: / Für GdP-Mitglieder ist das Seminar kostenf
 rei Erste Hilfe im Einsatzfall - Versorgung von Stich- und Schussverletzun
 gen - Grundseminar 34628
URL;VALUE=URI:https://gdp-prod.ext.neusta-hosting.de/hessen/de/seminare/20
 26/gdp-hessen-erste-hilfe-im-einsatzfall-versorgung-von-stich-und-schussve
 rletzungen_grund-2
END:VEVENT
END:VCALENDAR