BEGIN:VCALENDAR
VERSION:2.0
PRODID:-//gdp//event//DE
METHOD:PUBLISH
NAME:gdp
X-WR-CALNAME:gdp
BEGIN:VEVENT
UID:bffd6bff-8d4f-472b-9d2d-bfe839c6f57f
SEQUENCE:0
DTSTAMP:20260423T101541Z
DTSTART:20260504T080000Z
DTEND:20260505T130000Z
SUMMARY:Projektmanagement - die Kunst der Veränderung - Gruppendynamik un
 d Persönlichkeitstypen\,                                              Kom
 munikation und Körpersprache
LOCATION:Landgasthof Bechtel Vor der Brücke 4\, 34628 Willingshausen-Zell
 a\, Deutschland
DESCRIPTION:Willingshausen-Zella Landgasthof Bechtel Vor der Brücke 4 / S
 eminarinhalte:\n / Was\, Warum\, Wie\, Wer und Was?\n / Anhand dieser W-Fr
 agen werden wichtige Methoden und Zusammenhänge zur Planung und Steuerung
  von Projekten vorgestellt. Das erforderliche Methodenwissen wird praxisor
 ientiert und auf der Basis jahrelanger Lehrerfahrung und aktueller Standar
 ds vermittelt. Wir setzen die Arbeit aus dem Seminar im letzten Jahr fort 
 und werden die gewonnenen Erkenntnisse vertiefen.\n / Ein wesentlicher Sch
 werpunkt wird sein\, wie das Projektteam zusammengestellt wird und weshalb
  dabei Kommunikation\, Körpersprache (Mimik!!) eine so große Rolle spiel
 en ????. Welche Persönlichkeitstypen gibt es und warum sie das Salz und P
 feffer in Projekten sind…\n / Ebenso werden wir diskutieren\, wie wir mi
 t schwierigen Personen im Alltag und vor allem in Projekten umgehen könne
 n.\n / Wir werden über Kommunikation und Kommunikationsmodelle sprechen. 
 Darüber hinaus werden wir Erkenntnisse der Persönlichkeitspsychologie an
 alysieren und diese auf die Kommunikationsstrukturen bzw. das motivational
 e Handeln des Menschen in der Projetarbeit übertragen. Dabei werden wir i
 nsbesondere anschauen\, was Körpersprache ist\, welche Elemente dazu geh
 ören und was die Körpersprache der Teilnehmer:innen in Projekten uns ver
 raten kann.\n / Der Körperarbeit wird auch in diesem Seminar wieder ein g
 roßer Zeitanteil gewidmet. Wir werden präventive Körperarbeit mit Gymna
 stik machen und werden wieder eine Yogastunde erleben.\n / Um an diesem Se
 minar teilnehmen zu können\, wird empfohlen\, die Mimik-Seminare Teil I u
 nd II besucht zu haben\, es ist aber keine Voraussetzung.\n /  \n / / Hin
 weis: / Für GdP-Mitglieder ist das Seminar kostenfrei / (Seminar\, Verpfl
 egung und Übernachtung im Einzelzimmer). / Sportbekleidung und evtl. ein 
 Handtuch mitbringen! Wir empfehlen bequeme\, legere Kleidung während des 
 Seminars! Projektmanagement - die Kunst der Veränderung - Gruppendynamik 
 und Persönlichkeitstypen\,                                              K
 ommunikation und Körpersprache 34628
URL;VALUE=URI:https://gdp-prod.ext.neusta-hosting.de/hessen/de/seminare/20
 26/gdp-hessen-projektmanagement
END:VEVENT
END:VCALENDAR