BEGIN:VCALENDAR
VERSION:2.0
PRODID:-//gdp//event//DE
METHOD:PUBLISH
NAME:gdp
X-WR-CALNAME:gdp
BEGIN:VEVENT
UID:b6c2f76b-ee5c-4b57-baa2-266403cea3bf
SEQUENCE:0
DTSTAMP:20260421T100146Z
DTSTART:20260506T080000Z
DTEND:20260506T130000Z
SUMMARY:Diensthaftpflicht und Regressforderungen
LOCATION:Polizeipräsidium Nordhessen Grüner Weg 33\, 34117 Kassel\, Deut
 schland
DESCRIPTION:Kassel Polizeipräsidium Nordhessen Grüner Weg 33 / Themen:\n
 \n\nDienstunfall\nAbhandenkommen von Dienstschlüsseln\nAuf der Alarmfahrt
  kommt es zum Unfall\nSchusswaffengebrauch\noffenes Fenster bei Gewitter\n
 und vieles mehr / Hinweis: / Für GdP-Mitglieder ist das Seminar kostenfre
 i Diensthaftpflicht und Regressforderungen 34117
URL;VALUE=URI:https://gdp-prod.ext.neusta-hosting.de/hessen/de/seminare/20
 26/gdp-hessen-diensthaftpflicht-und-regressforderungen2
END:VEVENT
END:VCALENDAR