BEGIN:VCALENDAR
VERSION:2.0
PRODID:-//gdp//event//DE
METHOD:PUBLISH
NAME:gdp
X-WR-CALNAME:gdp
BEGIN:VEVENT
UID:fd5d6357-56b4-4f4d-a9e0-93615c07adeb
SEQUENCE:0
DTSTAMP:20260423T164506Z
DTSTART:20260712T220000Z
DTEND:20260714T220000Z
SUMMARY:Ich gehe in Pension - Vorbereitung auf den Ruhestand für Beamte
LOCATION:Mercure Hotel Am Johannisberg 5\, 33615 Bielefeld\, Deutschland
DESCRIPTION:Bielefeld Mercure Hotel Am Johannisberg 5 / Ein neuer Lebensab
 schnitt bedeutet häufig etwas Neues\, Erwartungsvolles\, Unbekanntes. Auc
 h hierauf kann man sich systematisch vorbereiten. Genau dieser Aufgabe ste
 llt sich das / Seminar. Fragen der materiellen Versorgung\, der Freuden un
 d möglichen Ängste\, der Gesundheit und Ernährung im Alter stehen neben
  Detailfragen wie Patienten- und Betreuungsverfügungen im Mittelpunkt der
  Seminararbeit. Für dieses Seminar besonders wichtig: Die informelle Atmo
 sphäre und der gegenseitige Gedanken- und Erfahrungsaustausch. Angesproch
 en sind Kolleginnen und Kollegen\, die in ca. 1 – 2 Jahren in den Ruhest
 and gehen.\n\n / Eine Seminarteilnahme der Lebenspartnerinnen und Lebenspa
 rtner ist nur begrenzt möglich. (Bitte in der Anmeldung mit angeben) Ich 
 gehe in Pension - Vorbereitung auf den Ruhestand für Beamte 33615
URL;VALUE=URI:https://gdp-prod.ext.neusta-hosting.de/nrw/de/seminare/2026/
 07/1307_vorbereitung-auf-den-ruhestand
END:VEVENT
END:VCALENDAR