BEGIN:VCALENDAR
VERSION:2.0
PRODID:-//gdp//event//DE
METHOD:PUBLISH
NAME:gdp
X-WR-CALNAME:gdp
BEGIN:VEVENT
UID:b2c5a8cb-3398-4ddd-9073-3f4d0773c1ac
SEQUENCE:0
DTSTAMP:20260423T165613Z
DTSTART:20260519T220000Z
DTEND:20260521T220000Z
SUMMARY:Ich gehe in Pension - Vorbereitung auf den Ruhestand für Beamte
LOCATION:Nell-Breuning-Haus Wiesenstr. 17\, 52134 Herzogenrath\, Deutschla
 nd
DESCRIPTION:Herzogenrath Nell-Breuning-Haus Wiesenstr. 17 / Ein neuer Lebe
 nsabschnitt bedeutet häufig etwas Neues\, Erwartungsvolles\, Unbekanntes.
  Auch hierauf kann man sich systematisch vorbereiten. Genau dieser Aufgabe
  stellt sich das / Seminar. Fragen der materiellen Versorgung\, der Freude
 n und möglichen Ängste\, der Gesundheit und Ernährung im Alter stehen n
 eben Detailfragen wie Patienten- und Betreuungsverfügungen im Mittelpunkt
  der Seminararbeit. Für dieses Seminar besonders wichtig: Die informelle 
 Atmosphäre und der gegenseitige Gedanken- und Erfahrungsaustausch. Angesp
 rochen sind Kolleginnen und Kollegen\, die in ca. 1 – 2 Jahren in den Ru
 hestand gehen.\n\n / Eine Seminarteilnahme der Lebenspartnerinnen und Lebe
 nspartner ist nur begrenzt möglich. (Bitte in der Anmeldung mit angeben) 
 Ich gehe in Pension - Vorbereitung auf den Ruhestand für Beamte 52134
URL;VALUE=URI:https://gdp-prod.ext.neusta-hosting.de/nrw/de/seminare/2026/
 05/2005_vorbereitung-auf-den-ruhestand
END:VEVENT
END:VCALENDAR