BEGIN:VCALENDAR
VERSION:2.0
PRODID:-//gdp//event//DE
METHOD:PUBLISH
NAME:gdp
X-WR-CALNAME:gdp
BEGIN:VEVENT
UID:61c61411-e8f6-4dc7-ad10-cd5c688e0a70
SEQUENCE:0
DTSTAMP:20260423T163959Z
DTSTART:20260607T220000Z
DTEND:20260609T220000Z
SUMMARY:Ich gehe in Pension - Vorbereitung auf den Ruhestand für Beamte
LOCATION:Landhaus Wieler Hauptstr. 94-96\, 53332 Bornheim-Walberberg\, Deu
 tschland
DESCRIPTION:Bornheim-Walberberg Landhaus Wieler Hauptstr. 94-96 / Ein neue
 r Lebensabschnitt bedeutet häufig etwas Neues\, Erwartungsvolles\, Unbeka
 nntes. Auch hierauf kann man sich systematisch vorbereiten. Genau dieser A
 ufgabe stellt sich das / Seminar. Fragen der materiellen Versorgung\, der 
 Freuden und möglichen Ängste\, der Gesundheit und Ernährung im Alter st
 ehen neben Detailfragen wie Patienten- und Betreuungsverfügungen im Mitte
 lpunkt der Seminararbeit. Für dieses Seminar besonders wichtig: Die infor
 melle Atmosphäre und der gegenseitige Gedanken- und Erfahrungsaustausch. 
 Angesprochen sind Kolleginnen und Kollegen\, die in ca. 1 – 2 Jahren in 
 den Ruhestand gehen.\n\n / Eine Seminarteilnahme der Lebenspartnerinnen un
 d Lebenspartner ist nur begrenzt möglich. (Bitte in der Anmeldung mit ang
 eben) Ich gehe in Pension - Vorbereitung auf den Ruhestand für Beamte 533
 32
URL;VALUE=URI:https://gdp-prod.ext.neusta-hosting.de/nrw/de/seminare/2026/
 06/0806_vorbereitung-auf-den-ruhestand
END:VEVENT
END:VCALENDAR