BEGIN:VCALENDAR
VERSION:2.0
PRODID:-//gdp//event//DE
METHOD:PUBLISH
NAME:gdp
X-WR-CALNAME:gdp
BEGIN:VEVENT
UID:0b810b2c-c26d-48ef-b224-90cd0b725677
SEQUENCE:0
DTSTAMP:20260423T164205Z
DTSTART:20260517T220000Z
DTEND:20260519T220000Z
SUMMARY:Ich gehe in Rente - Vorbereitung auf den Ruhestand für Tarifbesch
 äftigte
LOCATION:Akademie Biggesee Ewiger Straße 7-9\, 57439 Attendorn\, Deutschl
 and
DESCRIPTION:Attendorn Akademie Biggesee Ewiger Straße 7-9 Vorbereitung au
 f den Ruhestand für Tarifbeschäftigte\n / Ein neuer Lebensabschnitt bede
 utet häufig etwas Neues\, Erwartungsvolles\, Unbekanntes. Auch hierauf ka
 nn man sich systematisch vorbereiten. Genau dieser Aufgabe stellt sich das
  Seminar. Fragen der materiellen Versorgung\, der Freuden und möglichen 
 Ängste\, der Gesundheit und Ernährung im Alter stehen neben Detailfragen
  wie Patienten- und Betreuungsverfügungen im Mittelpunkt der Seminararbei
 t. Für dieses Seminar besonders wichtig: Die informelle Atmosphäre und d
 er gegenseitige Gedanken- und Erfahrungsaustausch. Angesprochen sind Kolle
 ginnen und Kollegen\, die in ca. 1 – 2 Jahren in den Ruhestand gehen.\n\
 n / Eine Seminarteilnahme der Lebenspartnerinnen und Lebenspartner ist nur
  begrenzt möglich. (Bitte in der Anmeldung mit angeben) Ich gehe in Rente
  - Vorbereitung auf den Ruhestand für Tarifbeschäftigte 57439
URL;VALUE=URI:https://gdp-prod.ext.neusta-hosting.de/nrw/de/seminare/2026/
 05/1805_vorbereitung-auf-die-rente
END:VEVENT
END:VCALENDAR