BEGIN:VCALENDAR
VERSION:2.0
PRODID:-//gdp//event//DE
METHOD:PUBLISH
NAME:gdp
X-WR-CALNAME:gdp
BEGIN:VEVENT
UID:928cf494-4a7f-4de8-87eb-cb16888ac49d
SEQUENCE:0
DTSTAMP:20260423T165537Z
DTSTART:20260623T220000Z
DTEND:20260625T220000Z
SUMMARY:Aktuelle Vertrauensleutearbeit
LOCATION:InterCityHotel Mercatorstr. 57\, 47051 Duisburg\, Deutschland
DESCRIPTION:Duisburg InterCityHotel Mercatorstr. 57 / Das Seminar ist für
  alle Kolleginnen und Kollegen geeignet\, die sich für den Bereich Vertra
 uensleutearbeit engagieren und interessieren: Aktive Vertrauensleute haben
  eine Schlüsselstellung. Sie sind die Verbindung zwischen Personalräten\
 , den Mitgliedern und der GdP. Damit Beschäftigte ihre Interessen und The
 men voranbringen können\, brauchen sie Vertreterinnen und Vertreter aus i
 hrer Mitte: Vertrauensleute! Sie kennen den Arbeitsalltag und leisten schn
 ell praktische Hilfe. Deshalb ist Vertrauensleutearbeit so wichtig! Die Ar
 beit der Vertrauensleute ist gewerkschaftliche Kernarbeit. Es / geht um gu
 te Kontakte und persönliche Gespräche. Und um Basisnähe. Denn die Orien
 tierung der Gewerkschaftspolitik an den Bedürfnissen der Mitglieder ist d
 er wichtigste Baustein für eine erfolgreiche Gewerkschaftsarbeit. Das Sem
 inar soll Handwerkszeug für die Vertrauensleute-Arbeit vermitteln. Aktuel
 le Vertrauensleutearbeit 47051
URL;VALUE=URI:https://gdp-prod.ext.neusta-hosting.de/nrw/de/seminare/2026/
 06/2406_aktuelle-vertrauensleutearbeit
END:VEVENT
END:VCALENDAR