BEGIN:VCALENDAR
VERSION:2.0
PRODID:-//gdp//event//DE
METHOD:PUBLISH
NAME:gdp
X-WR-CALNAME:gdp
BEGIN:VEVENT
UID:858e3f07-97ae-440a-a51b-f59c45952991
SEQUENCE:0
DTSTAMP:20260423T165644Z
DTSTART:20260630T220000Z
DTEND:20260701T220000Z
SUMMARY:Aufbau für Personalräte
LOCATION:Hotel zum Hackstück Hackstückstr. 123\, 45527 Hattingen\, Deuts
 chland
DESCRIPTION:Hattingen Hotel zum Hackstück Hackstückstr. 123 / Umfassende
  Kenntnisse über die eigenen Rechte und Pflichten sind eine Grundvorausse
 tzung für erfolgreiche Personalratsarbeit. Nur mit der entsprechenden Kom
 petenz im Rücken kann der Personalrat gestaltend im Sinne der Beschäftig
 ten handeln.\n / Das Seminar vermittelt Grundlagen zur Rechtsstellung und 
 einen Überblick über die vielseitigen Aufgaben des Personalrats nach dem
  Landespersonalvertretungsgesetz NRW. Die praktische Anwendung steht im Mi
 ttelpunkt.\n / Themen:\n\nAufbau und Grundlagen des Personalvertretungsges
 etzes in NRW\nDie allgemeinen Aufgaben und die Stellung des Personalrats\n
 Überblick über die Beteiligungsrechte des Personalrats\nRechte und Pflic
 hten der Personalratsmitglieder\nAnforderungen an eine ordnungsgemäße Ge
 schäftsführung\nZusammenarbeit des Personalrats mit der Dienststellenlei
 tung\, der JAV\, der\nSchwerbehindertenvertretung\, der Gewerkschaft und d
 em Wirtschaftsausschuss Personalversammlung und aktive Beteiligungsmöglic
 hkeiten der Beschäftigten. \n\n /  \n\n / Zielgruppe: Mitglieder des Pe
 rsonalrats oder Vertreter\, die regelmäßig zu Sitzungen eingeladen werde
 n mit Entsendebeschluss sowie Schwerbehindertenvertretung.\n / Das Seminar
  wird über §42.5 LPVG organisiert. Teilnahme nur mit Entsendebeschluss m
 öglich. Aufbau für Personalräte 45527
URL;VALUE=URI:https://gdp-prod.ext.neusta-hosting.de/nrw/de/seminare/2026/
 07/0107_aufbau-fuer-personlraete
END:VEVENT
END:VCALENDAR