BEGIN:VCALENDAR
VERSION:2.0
PRODID:-//gdp//event//DE
METHOD:PUBLISH
NAME:gdp
X-WR-CALNAME:gdp
BEGIN:VEVENT
UID:23857bfe-fa85-4698-a7c2-6f2cc893fedc
SEQUENCE:0
DTSTAMP:20260423T165434Z
DTSTART:20260609T220000Z
DTEND:20260611T220000Z
SUMMARY:Tarif aktiv
LOCATION:Johanniter-Gästehaus Weißenburgstr. 60-64\, 48151 Münster\, D
 eutschland
DESCRIPTION:Münster Johanniter-Gästehaus Weißenburgstr. 60-64 Tarif ak
 tiv 48151
URL;VALUE=URI:https://gdp-prod.ext.neusta-hosting.de/nrw/de/seminare/2026/
 06/1006_tarif-aktiv
END:VEVENT
END:VCALENDAR