BEGIN:VCALENDAR
VERSION:2.0
PRODID:-//gdp//event//DE
METHOD:PUBLISH
NAME:gdp
X-WR-CALNAME:gdp
BEGIN:VEVENT
UID:9a664f97-7195-45b9-a1c4-bc5aa725b157
SEQUENCE:0
DTSTAMP:20260425T102022Z
DTSTART:20260707T220000Z
DTEND:20260709T220000Z
SUMMARY:Einstieg in die Gewerkschaftsarbeit für den Tarifbereich
LOCATION:Akademie Biggesee Ewiger Straße 7-9\, 57439 Attendorn\, Deutschl
 and
DESCRIPTION:Attendorn Akademie Biggesee Ewiger Straße 7-9 Einstieg in die
  Gewerkschaftsarbeit für den Tarifbereich 57439
URL;VALUE=URI:https://gdp-prod.ext.neusta-hosting.de/nrw/de/seminare/2026/
 07/0807_einstieg-in-die-gewerkschaftsarbeit-tarif
END:VEVENT
END:VCALENDAR