BEGIN:VCALENDAR
VERSION:2.0
PRODID:-//gdp//event//DE
METHOD:PUBLISH
NAME:gdp
X-WR-CALNAME:gdp
BEGIN:VEVENT
UID:d7261948-9639-4711-869d-ce46340821ac
SEQUENCE:0
DTSTAMP:20260423T165537Z
DTSTART:20260519T220000Z
DTEND:20260521T220000Z
SUMMARY:Aktuelles aus dem Wachdienst - Besuch der GPEC®\nund der Gedenkst
 ätte Museum in der „Runden Ecke“ Leipzig
LOCATION:LEGERE EXPRESS Seemannstraße 2\, 04317 Leipzig\, Deutschland
DESCRIPTION:Leipzig LEGERE EXPRESS Seemannstraße 2 / In diesem Jahr wird 
 das Wachdienst-Seminar mit dem Besuch der GPEC digital in Leipzig kombinie
 rt. Die internat. Messe konzentriert sich auf die Digitalisierung und Elek
 tronikausstattung der Inneren Sicherheit\, Strafverfolgung und des Heimats
 chutzes. Die Teilnehmer erhalten die Möglichkeit\, aktuelle digitale und 
 zukunftsorientierte Technologien für Polizei- und Sicherheitsbehörden ke
 nnenzulernen. Sie werden auf Experten aus Behörden und Wirtschaft treffen
  und sich ausgesuchte Fachthemen vor Ort erarbeiten. Die Messe legt auch b
 esonderen Fokus auf Aus- und Fortbildung und den Austausch über praktisch
 e Lösungen. Nicht zuletzt ergibt sich hier die Chance auf interministerie
 lles\, nationales und internationales Networking.  Aktuelles aus dem Wach
 dienst - Besuch der GPEC®\nund der Gedenkstätte Museum in der „Runden 
 Ecke“ Leipzig 04317
URL;VALUE=URI:https://gdp-prod.ext.neusta-hosting.de/nrw/de/seminare/2026/
 05/2005_im-einsatz-aktuelles-aus-dem-wachdienst
END:VEVENT
END:VCALENDAR